BEGIN:VCALENDAR
VERSION:2.0
PRODID:-//ChamberMaster//Event Calendar 2.0//EN
METHOD:PUBLISH
X-PUBLISHED-TTL:P1H
REFRESH-INTERVAL:P1H
CALSCALE:GREGORIAN
BEGIN:VTIMEZONE
TZID:America/New_York
BEGIN:DAYLIGHT
RRULE:FREQ=YEARLY;BYMONTH=3;BYDAY=2SU
DTSTART:20070101T000000
TZOFFSETFROM:-0500
TZOFFSETTO:-0400
TZNAME:Eastern Daylight Time
END:DAYLIGHT
BEGIN:STANDARD
RRULE:FREQ=YEARLY;BYMONTH=11;BYDAY=1SU
DTSTART:20070101T000000
TZOFFSETFROM:-0400
TZOFFSETTO:-0500
TZNAME:Eastern Standard Time
END:STANDARD
END:VTIMEZONE
BEGIN:VEVENT
DTSTART;TZID=America/New_York:20260520T100000
DTEND;TZID=America/New_York:20260520T110000
X-MICROSOFT-CDO-ALLDAYEVENT:FALSE
SUMMARY:Young Professional Industry Roundtable: What’s Now & What’s Next
DESCRIPTION:The future of fundraising and direct marketing is being shaped by the next generation of professionals\, and we want to hear directly from you! DMAW's Young Professionals Committee is hosting a small\, curated roundtable designed to bring together emerging leaders in the field for an open and honest conversation about where the industry stands today\, and where it's headed next. The discussion will be directed by your input\, and we want to know: The biggest challenges young professionals are navigatingOpportunities you see for growth and innovationSkills and support that would have the biggest impact on your career How organizations like DMAW can better serve the next generation This is intentionally a small\, discussion-based experience to ensure every voice is heard and every perspective is valued. Interested in participating? Please complete this brief interest form: https://directmarketingassociationofwashingtondmaw.growthzoneapp.com/ap/Form/Fill/rkX65sVp. From there\, we'll follow up with additional details. If you're looking for a chance to share your perspective and connect with peers about the future of the industry\, we'd love to have you join us!
X-ALT-DESC;FMTTYPE=text/html:<!DOCTYPE html><html><head><title></title></head><body aria-disabled="false"><p>The future of fundraising and direct marketing is being shaped by the next generation of professionals\, and we want to hear directly from you!&nbsp\;</p><p><strong fr-original-style="" style="font-weight: 700\;">DMAW&rsquo\;s Young Professionals Committee</strong> is hosting a small\, curated roundtable designed to bring together emerging leaders in the field for an open and honest conversation about where the industry stands today\, and where it&rsquo\;s headed next. The discussion will be directed by your input\, and we want to know:&nbsp\;</p><ul fr-original-style="" style="list-style-position: inside\;"><li>The biggest challenges young professionals are navigating</li><li>Opportunities you see for growth and innovation</li><li>Skills and support that would have the biggest impact on your career&nbsp\;</li><li>How organizations like DMAW can better serve the next generation&nbsp\;</li></ul><p>This is intentionally a small\, discussion-based experience to ensure every voice is heard and every perspective is valued.&nbsp\;</p><p><strong fr-original-style="" style="font-weight: 700\;"><span style="font-size: 18px\;">Interested in participating? Please complete this brief interest form: <a fr-original-style="" href="https://directmarketingassociationofwashingtondmaw.growthzoneapp.com/ap/Form/Fill/rkX65sVp" style="user-select: auto\;">https://directmarketingassociationofwashingtondmaw.growthzoneapp.com/ap/Form/Fill/rkX65sVp</a>. From there\, we&rsquo\;ll follow up with additional details.</span>&nbsp\;</strong></p><p>If you&rsquo\;re looking for a chance to share your perspective and connect with peers about the future of the industry\, we&rsquo\;d love to have you join us!</p></body></html>
LOCATION:
UID:e.1629.1445684
SEQUENCE:3
DTSTAMP:20260421T055021Z
URL:https://members.dmaw.org/event-calendar/Details/young-professional-industry-roundtable-what-s-now-what-s-next-1712339?sourceTypeId=Hub
END:VEVENT
END:VCALENDAR
