BEGIN:VCALENDAR
VERSION:2.0
PRODID:-//ChamberMaster//Event Calendar 2.0//EN
METHOD:PUBLISH
X-PUBLISHED-TTL:P1H
REFRESH-INTERVAL:P1H
CALSCALE:GREGORIAN
BEGIN:VTIMEZONE
TZID:America/New_York
BEGIN:DAYLIGHT
RRULE:FREQ=YEARLY;BYMONTH=3;BYDAY=2SU
DTSTART:20070101T000000
TZOFFSETFROM:-0500
TZOFFSETTO:-0400
TZNAME:Eastern Daylight Time
END:DAYLIGHT
BEGIN:STANDARD
RRULE:FREQ=YEARLY;BYMONTH=11;BYDAY=1SU
DTSTART:20070101T000000
TZOFFSETFROM:-0400
TZOFFSETTO:-0500
TZNAME:Eastern Standard Time
END:STANDARD
END:VTIMEZONE
BEGIN:VEVENT
DTSTART;TZID=America/New_York:20260529T140000
DTEND;TZID=America/New_York:20260529T160000
X-MICROSOFT-CDO-ALLDAYEVENT:FALSE
SUMMARY:Service Day 2026: DC Central Kitchen
DESCRIPTION:Give Back with DMAW!Join the Young Professionals of DMAW (YDMAW) for a meaningful day of service at DC Central Kitchen\, a nationally recognized nonprofit working to combat hunger and create economic opportunity in the DC community. During this hands-on volunteer experience\, participants will help prepare balanced meals for the community alongside DC Central Kitchen's culinary team\, no cooking or food service experience required! This is a unique opportunity to give back in a tangible way\, connect with your peers\, and see firsthand how nonprofit programs are making a real impact. After the event\, the group will head to a local spot nearby to unwind and continue the conversation. Anyone interested is encouraged to stick around for this informal gathering as a chance to connect with peers. Whether you're looking to get more involved with DMAW\, meet like-minded peers\, or simply spend a few hours doing good\, we'd love to have you join us! Space is limited\, so secure your spot today
X-ALT-DESC;FMTTYPE=text/html:<!DOCTYPE html><html><head><title></title></head><body aria-disabled="false"><p style="text-align: center\;"><strong fr-original-style="" style="font-weight: 700\;"><span style="font-size: 18px\;">Give Back with DMAW!</span></strong></p><p style="text-align: center\;">Join the Young Professionals of DMAW (YDMAW) for a meaningful day of service at DC Central Kitchen\, a nationally recognized nonprofit working to combat hunger and create economic opportunity in the DC community.&nbsp\;</p><p style="text-align: center\;">During this hands-on volunteer experience\, participants will help prepare balanced meals for the community alongside DC Central Kitchen&rsquo\;s culinary team\, no cooking or food service experience required! This is a unique opportunity to give back in a tangible way\, connect with your peers\, and see firsthand how nonprofit programs are making a real impact.&nbsp\;</p><p style="text-align: center\;"><span style="color: rgb(0\, 0\, 0)\; font-family: Arial\; font-size: medium\; font-style: normal\; font-variant-ligatures: normal\; font-variant-caps: normal\; font-weight: 400\; letter-spacing: normal\; orphans: 2\; text-align: center\; text-indent: 0px\; text-transform: none\; widows: 2\; word-spacing: 0px\; -webkit-text-stroke-width: 0px\; white-space: normal\; text-decoration-thickness: initial\; text-decoration-style: initial\; text-decoration-color: initial\; display: inline !important\; float: none\;">After the event\, the group will head to a local spot nearby to unwind and continue the conversation. Anyone interested is encouraged to stick around for this informal gathering as a chance to connect with peers.&nbsp\;</span></p><p style="text-align: center\;">Whether you&rsquo\;re looking to get more involved with DMAW\, meet like-minded peers\, or simply spend a few hours doing good\, we&rsquo\;d love to have you join us!&nbsp\;</p><p style="text-align: center\;"><em>Space is limited\, so secure your spot today</em></p></body></html>
LOCATION:2121 First Street SW Washington DC 20024
UID:e.1629.1435942
SEQUENCE:3
DTSTAMP:20260421T055303Z
URL:https://members.dmaw.org/event-calendar/Details/service-day-2026-dc-central-kitchen-1699847?sourceTypeId=Hub
END:VEVENT
END:VCALENDAR
